BEGIN:VCALENDAR
METHOD:PUBLISH
PRODID:Data::ICal 0.13
VERSION:2.0
BEGIN:VEVENT
DESCRIPTION:Source: Bull Ride picture MEGA / Canva Radio One



No te pierdas la oportunidad de asistir este 21 y 22 de marzo para ver a los mejores jinetes del mundo en acción.  



¡Y lo mejor es que nosotros te invitamos! Sintoniza a Pedro durante toda esta semana para participar y ganar un paquete de 4 boletos para que vayas con toda tu familia o amigos.  



¡Mantente conectado a nuestra señal y prepárate para el espectáculo más emocionante sobre la arena! 🎙️🤠
DTSTAMP:20260422T092634Z
DTSTART;TZID=America/New_York:19700101T000000
DTEND;TZID=America/New_York:19700101T000000
LOCATION:
SUMMARY:Professional Bull Riding (PBR) en el Gainbridge Fieldhouse.
UID:190931--
END:VEVENT
END:VCALENDAR
